BEGIN:VCALENDAR
VERSION:2.0
PRODID:-// - ECPv5.0.3.1//NONSGML v1.0//EN
CALSCALE:GREGORIAN
METHOD:PUBLISH
X-ORIGINAL-URL:http://shiatsu.lu
X-WR-CALDESC:Évènements pour 
BEGIN:VTIMEZONE
TZID:Europe/Paris
BEGIN:DAYLIGHT
TZOFFSETFROM:+0100
TZOFFSETTO:+0200
TZNAME:CEST
DTSTART:20200329T010000
END:DAYLIGHT
BEGIN:STANDARD
TZOFFSETFROM:+0200
TZOFFSETTO:+0100
TZNAME:CET
DTSTART:20201025T010000
END:STANDARD
END:VTIMEZONE
BEGIN:VEVENT
DTSTART;TZID=Europe/Paris:20200822T080000
DTEND;TZID=Europe/Paris:20200824T170000
DTSTAMP:20200421T231211
CREATED:20200128T125314Z
LAST-MODIFIED:20200128T154411Z
UID:1309-1598083200-1598288400@shiatsu.lu
SUMMARY:Stage avec Masanori Okamoto
DESCRIPTION:  \nVoir détail sous: stages à l’étranger \n
URL:http://shiatsu.lu/event/stage-avec-masanori-okamoto/
LOCATION:Gymnase Mermoz\, Place de l'Arc en Ciel\, Yutz\, 57970\, France
END:VEVENT
END:VCALENDAR