BEGIN:VCALENDAR
VERSION:2.0
PRODID:-// - ECPv4.9.13//NONSGML v1.0//EN
CALSCALE:GREGORIAN
METHOD:PUBLISH
X-ORIGINAL-URL:http://shiatsu.lu
X-WR-CALDESC:Évènements pour 
BEGIN:VTIMEZONE
TZID:Europe/Paris
BEGIN:DAYLIGHT
TZOFFSETFROM:+0100
TZOFFSETTO:+0200
TZNAME:CEST
DTSTART:20190331T010000
END:DAYLIGHT
BEGIN:STANDARD
TZOFFSETFROM:+0200
TZOFFSETTO:+0100
TZNAME:CET
DTSTART:20191027T010000
END:STANDARD
END:VTIMEZONE
BEGIN:VEVENT
DTSTART;VALUE=DATE:20190517
DTEND;VALUE=DATE:20190520
DTSTAMP:20200123T115721
CREATED:20150707T192321Z
LAST-MODIFIED:20190218T124328Z
UID:585-1558051200-1558310399@shiatsu.lu
SUMMARY:Stage de niveau 2
DESCRIPTION:Stage avec Thierry Camagie à Lultzhausen :\n détail\, cliquez sur :   \nstage niv 2 Thierry Camagie mai 2019 à Luxembourg \n  \n  \n\n  \n  \n  \n  \n  \n
URL:http://shiatsu.lu/event/stage-residentiel-de-niveau-2/
LOCATION:Auberge de Jeunesse de Lultzhausen\, 20\, An der Driicht\, Lultzhausen\, L- 9666\, Luxembourg
END:VEVENT
END:VCALENDAR