BEGIN:VCALENDAR
VERSION:2.0
PRODID:-// - ECPv5.9.1//NONSGML v1.0//EN
CALSCALE:GREGORIAN
METHOD:PUBLISH
X-ORIGINAL-URL:http://shiatsu.lu
X-WR-CALDESC:évènements pour 
BEGIN:VTIMEZONE
TZID:Europe/Paris
BEGIN:DAYLIGHT
TZOFFSETFROM:+0100
TZOFFSETTO:+0200
TZNAME:CEST
DTSTART:20200329T010000
END:DAYLIGHT
BEGIN:STANDARD
TZOFFSETFROM:+0200
TZOFFSETTO:+0100
TZNAME:CET
DTSTART:20201025T010000
END:STANDARD
BEGIN:DAYLIGHT
TZOFFSETFROM:+0100
TZOFFSETTO:+0200
TZNAME:CEST
DTSTART:20210328T010000
END:DAYLIGHT
BEGIN:STANDARD
TZOFFSETFROM:+0200
TZOFFSETTO:+0100
TZNAME:CET
DTSTART:20211031T010000
END:STANDARD
END:VTIMEZONE
BEGIN:VEVENT
DTSTART;VALUE=DATE:20200515
DTEND;VALUE=DATE:20210616
DTSTAMP:20211006T092947
CREATED:20200515T171404Z
LAST-MODIFIED:20200621T185059Z
UID:1330-1589500800-1623801599@shiatsu.lu
SUMMARY:Reprise des thérapies de Shiatsu
DESCRIPTION:voir le détail sous Instagram
URL:http://shiatsu.lu/event/reprise-des-therapies-de-shiatsu/
ATTACH;FMTTYPE=image/jpeg:http://www.shiatsu.lu/wp-content/uploads/2020/05/Instagram-RepriseDesTherapiesDe-shiatsu-1-2.jpeg
END:VEVENT
BEGIN:VEVENT
DTSTART;TZID=Europe/Paris:20200912T080000
DTEND;TZID=Europe/Paris:20210912T080000
DTSTAMP:20211006T092947
CREATED:20200911T095323Z
LAST-MODIFIED:20200912T195723Z
UID:1377-1599897600-1631433600@shiatsu.lu
SUMMARY:Covid-19
DESCRIPTION:Mesures d’hygiène à adopter pour les cours de shiatsu Site (1)
URL:http://shiatsu.lu/event/covid-19/
END:VEVENT
END:VCALENDAR